BEGIN:VCALENDAR
VERSION:2.0
PRODID:icalendar-ruby
CALSCALE:GREGORIAN
METHOD:PUBLISH
BEGIN:VEVENT
DTSTAMP:20260421T124354Z
UID:8-334224@unitychurch248.tithelysetup5.com
DTSTART:20260920T143000Z
DTEND:20260920T153000Z
CLASS:PUBLIC
CREATED:20260421T080137
DESCRIPTION:
LAST-MODIFIED:20260421T080137
LOCATION:Unity Church of Peace and on Zoom 
SUMMARY:Sunday Service
URL;VALUE=URI:https://www.unitychurchofpeace.com/events/sunday-service/2026
 -09-20
ATTACH;FILENAME=church.jpg;FMTTYPE=image/jpeg:https://dq5pwpg1q8ru0.cloudfr
 ont.net/2024/06/12/19/26/45/23c77b11-7945-4bf0-ae80-12a49d69650b/church.jp
 g
END:VEVENT
END:VCALENDAR
